Workbook

Sheet Upute Veliki poduz

Sheet Sažeti Opis podkriterija 
C2: Kratki opis kriterija i podkriterija
C4: Kriteriji | D4: Podkriteriji | E4: Opis
C5: Vještine (Vještine obuhvaćaju znanje, sposobnosti i kompetencije potrebne za obavljanje posla na radnom mjestu, stečene kroz teorijsko učenje, praktično osposobljavanje, radno iskustvo ili kombinacijom navedenog) | D5: Stručna znanja i iskustvo | E5: Ocjenjuje razinu stručnih znanja, radnog iskustva i formalnog obrazovanja koje radno mjesto traži. Od srednje proširene razine dalje vrednuje se ekspertna ili upravljačka dimenzija, dubinsko stručno-tehničko znanje ili znanja iz menadžmenta i poslovanja. Procjenjuje se ono što radno mjesto zahtijeva, ne ono što osoba trenutno posjeduje.
D6: Vještine planiranja i organizacije | E6: Ocjenjuje opseg i složenost planiranja: od planiranja vlastitog rada, preko planiranja zadataka unutar područja rada i koordinacije više procesa, do integracije više poslovnih funkcija i strateškog planiranja na razini cijele organizacije. Vrednuje se širina obuhvata planiranja i razina međufunkcijske koordinacije.
D7: Interpersonalne i komunikacijske vještine | E7: Ocjenjuje zahtjeve za ophođenjem s ljudima unutar i izvan organizacije, uzimajući u obzir vrstu, svrhu i složenost komunikacije te razinu potrebnih interpersonalnih vještina.
D8: Vještine rješavanja problema | E8: Ocjenjuje prirodu problema koje radno mjesto rješava, od rutinskih i standardnih s poznatim rješenjima, preko nestandardnih i višedimenzionalnih, do problema bez presedana koji traže kreiranje novih metodologija. Vrednuje se definiranost problema, broj povezanih čimbenika, jedinstvenost i postojanje gotovih rješenja u struci ili praksi organizacije.
D9: Dodatna znanja | E9: Ocjenjuje znanja koja su potrebna za obavljanje posla na radnom mjestu, a koja su izvan osnovnog stručnog područja pokrivenog formalnim obrazovanjem. Uključuje tehnička i opća poslovna znanja iz različitih domena.
D10: Tjelesne/manualne vještine | E10: Ocjenjuje razinu manualne spretnosti, koordinacije pokreta i preciznosti koju radno mjesto zahtijeva pri rukovanju alatima, strojevima, opremom, materijalima ili osobama (npr. u zdravstvu, njezi i skrbi).
C11: Odgovornost (Odgovornost obuhvaća formalnu i stvarnu odgovornost za ljude, materijalna dobra, informacije, financijske resurse i utjecaj na poslovni rezultat organizacije) | D11: Odgovornost za ljude | E11: Ocjenjuje odgovornost za rad drugih ljudi. Vrednuju se tri ravnopravna oblika vodstva: linijsko (hijerarhijsko vođenje tima), funkcionalno (vođenje u matričnoj organizaciji) i stručno (usmjeravanje rada drugih bez formalnih ovlasti, kroz standarde i metode rada). Vrednuje se i doseg odgovornosti, od neformalne podrške, preko vodstva tima ili stručnog područja, do formalne odgovornosti za organizacijske cjeline i strateške odgovornosti za cijelu organizaciju. Na višim razinama (formalna odgovornost za organizacijske cjeline i više) ocjenjuje se isključivo linijsko i funkcionalno vodstvo.
D12: Odgovornost za financijske resurse | E12: Ocjenjuje odgovornost za novčane tokove, proračune, prihode, troškove i profitabilnost. Vrednuje se opseg financijske odgovornosti, od rukovanja manjim iznosima u svakodnevnom radu, preko upravljanja proračunom organizacijske jedinice ili profitabilnošću projekata, do strateške odgovornosti za ukupne prihode i rashode cijele organizacije.
D13: Odgovornost za materijalna dobra i opremu | E13: Ocjenjuje odgovornost za fizičku imovinu organizacije: opremu, alate, strojeve, vozila, postrojenja, zalihe i infrastrukturu. Vrednuju se vrijednost imovine kojom radno mjesto raspolaže i posljedice oštećenja, gubitka ili neispravnog rukovanja na operativne procese organizacije.
D14: Odgovornost za informacije | E14: Ocjenjuje odgovornost za rukovanje informacijama i podacima, njihovo prikupljanje, pohranu, obradu i čuvanje povjerljivosti. Vrednuju se osjetljivost informacija kojima radno mjesto raspolaže i mogući učinci njihovog neovlaštenog otkrivanja ili gubitka.
D15: Utjecaj na rezultat | E15: Ocjenjuje koliko rad na radnom mjestu utječe na procese, proizvod, uslugu ili poslovni rezultat organizacije. Vrednuju se tri dimenzije: izravnost utjecaja (od posrednog doprinosa do izravnog oblikovanja rezultata), doseg posljedica (od internih smetnji, preko učinka na korisnika, do utjecaja na tržišnu poziciju organizacije) te mogućnost pravovremenog ispravka pogreške prije nego postane nepovratna. Od razine djelomičnog utjecaja nadalje razlikuju se dvije dimenzije doprinosa, ekspertna (stručno oblikovanje outputa) i upravljačka (utjecaj kroz organizaciju procesa, ljudi i aktivnosti).
C16: Radni napor (Radni napor obuhvaća mentalne, emocionalne i fizičke zahtjeve koje radno mjesto postavlja pred zaposlenika) | D16: Zahtjevnost razmišljanja | E16: Ocjenjuje intenzitet i tip mentalnog napora potrebnog za obavljanje posla na radnom mjestu. Vrednuju se intenzitet i dugotrajnost koncentracije, struktura informacija (od jasno definiranih do nestrukturiranih i neopipljivih) te tip kognitivnog rada (od rutinske pažnje do konceptualnog i vizionarskog razmišljanja).
D17: Donošenje i provođenje odluka | E17: Ocjenjuje složenost odluka koje radno mjesto samostalno donosi i razinu samostalnosti u njihovom donošenju, od rutinskih odluka po propisanom postupku, preko odluka koje traže prosudbu unutar definiranog okvira, do strateških odluka koje radno mjesto samostalno oblikuje. Doseg učinka i posljedice odluka vrednuju se kroz podkriterije Utjecaj na rezultat i Odgovornosti.
D18: Psihosocijalni i emocionalni zahtjevi | E18: Ocjenjuje emocionalnu energiju potrebnu za upravljanje i odgovaranje na psihološke i interpersonalne zahtjeve radnog mjesta. Vrednuje se intenzitet, trajanje i učestalost emocionalnog napora u radnom vremenu.
D19: Fizičko opterećenje | E19: Ocjenjuje tjelesni napor i zamor koji radno mjesto nameće zaposleniku. Vrednuje se intenzitet opterećenja i njegova učestalost u radnom vremenu.
C20: Radni uvjeti (Radni uvjeti obuhvaćaju sve karakteristike okruženja i organizacijskih zahtjeva koji utječu na zaposlenika pri obavljanju posla na radnom mjestu) | D20: Radno okruženje | E20: Ocjenjuje prirodu, ozbiljnost i učestalost izloženosti fizičkim uvjetima rada i opasnostima: buka, kemikalije, vibracije, vremenski uvjeti, opasni strojevi, visina, električna struja, biološke štetnosti i slično. Psihosocijalni rizici vrednuju se odvojeno kroz podkriterij Psihosocijalni i emocionalni zahtjevi. Pretpostavlja se da se primjenjuju svi propisani standardi zaštite zdravlja i sigurnosti.
D21: Organizacijsko okruženje | E21: Ocjenjuje organizacijske zahtjeve radnog mjesta koji utječu na ravnotežu privatnog i poslovnog života zaposlenika, fleksibilnost rasporeda, službena putovanja, rad u nestandardno vrijeme i digitalna dostupnost izvan radnog vremena. Vrednuju se intenzitet i učestalost takvih zahtjeva.

Sheet Bodovna skala s opisima
B1: KRITERIJI I PODKRITERIJI (vrednovanja složenosti radnih mjesta) | C1: Razina | D1: OPIS RAZINE | E1: Bodovi
E2: MIN
E3: MAX
A4: 1) | B4: VJEŠTINE | F4: Min | G4: Max | J4: 📝Ova tablica predstavlja opis razina podkriterija s pripadajućim brojem bodova. Bodovna skala povezana je s listom 'Plan podkriterija'. Bodovi unutar skale mogu se mijenjati, ali ukupan zbroj mora uvijek iznositi 1000. Ne dodavati i ne brisati razine, formule u tom slučaju neće ispravno funkcionirati.
B5: Stručna znanja i iskustvo | C5: 1 | D5: Osnovna razina - poslovi koji se obavljaju prema jasnim uputama i jednostavnim radnim postupcima. Zahtijeva se osnovno razumijevanje zadataka koje se stječe kratkim uvođenjem u posao i učenjem kroz rad. | E5: 0 | F5: =E5+E13+E21+E26+E34+E39+E45+E53+E58+E63+E68+E74+E79+E84+E89+E95+E100 -> 0 | G5: =E12+E20+E25+E33+E38+E43+E52+E57+E62+E67+E72+E78+E83+E88+E93+E99+E104 -> 1000
C6: 2 | D6: Kvalifikacijska razina - poslovi koji zahtijevaju poznavanje standardiziranih radnih rutina i jednostavnu primjenu opreme ili alata. Znanje se stječe kratkom formalnom obukom ili kroz radno iskustvo u trajanju od nekoliko mjeseci. | E6: 25
C7: 3 | D7: Srednja razina - poslovi koji zahtijevaju razumijevanje tehnika i postupaka unutar složenijih procesa ili specijaliziranih sustava, uz poznavanje prikladnih metoda, alata i materijala. Znanje se stječe kroz širi spektar obuke i radno iskustvo. | E7: 45
C8: 4 | D8: Srednje proširena razina - poslovi koji zahtijevaju pouzdano poznavanje metoda i postupaka unutar područja rada, stečeno radnim iskustvom i/ili kroz dodatne stručne kvalifikacije. Uključuju dobro razumijevanje sustava i procesa, ali bez potrebe za njihovim konceptualnim oblikovanjem ili temeljitom izmjenom. | E8: 55
C9: 5 | D9: Stručna razina - poslovi koji zahtijevaju primjenu teorijskih znanja i razumijevanje načela struke, uz svijest o granicama vlastitog područja. Razina je povezana s profesionalnom kvalifikacijom i/ili detaljnim razumijevanjem praksi i postupaka u struci. | E9: 75
C10: 6 | D10: Specijalistička razina - poslovi koji zahtijevaju napredno znanje područja rada i duboko razumijevanje njegovih teorija i načela. Uključuju samostalnost u stručnom, znanstvenom ili specijaliziranom radu, stečenu kroz široko iskustvo izgrađeno na konceptualnoj osnovi ili kroz izloženost složenim praksama. | E10: 95
C11: 7 | D11: Visoko specijalistička razina - poslovi koji zahtijevaju visoko specijalizirano znanje i poznavanje najnovijih spoznaja u području. Uključuju razumijevanje suvremenih metodologija i kritičku svijest o granicama postojećeg znanja u struci. | E11: 115
C12: 8 | D12: Ekspertna razina - poslovi koji zahtijevaju znanje na najvišoj razini u specifičnom području i razumijevanje dodirnih točaka različitih disciplina. Uključuju kreiranje novih koncepata, teorija ili metodologija te prepoznatost kao autoritet u struci, uz doprinos razvoju područja na nacionalnoj ili međunarodnoj razini. | E12: 140
B13: Vještine planiranja i organizacije | C13: 1 | D13: Rutinski rad bez planiranja. Izvođenje svakodnevnih rutinskih zadataka prema jasnim uputama i unaprijed definiranom rasporedu. Ne uključuje samostalno planiranje niti određivanje prioriteta. | E13: 0
C14: 2 | D14: Planiranje i organiziranje vlastitog rada s određenim ciljem ili područjem djelovanja, uz svijest o povezanim aktivnostima u drugim procesima. Uključuje određivanje redoslijeda rada te raspoređivanje resursa i informacija za obavljanje zadataka. | E14: 15
C15: 3 | D15: Planiranje i organiziranje niza raznolikih zadataka i ciljeva te koordinacija poslova unutar određenog područja rada, čiji rezultati utječu na rezultat drugih procesa i/ili organizacijskih cjelina. Uključuje određivanje prioriteta, upravljanje rokovima i optimizaciju resursa. | E15: 25
C16: 4 | D16: Planiranje i organiziranje poslova određenog područja rada unutar organizacijske cjeline, čiji rezultati imaju utjecaj na ukupni rezultat. Uključuje postavljanje operativnih ciljeva, raspodjelu zadataka i praćenje izvršenja. | E16: 35
C17: 5 | D17: Planiranje i koordinacija rada više procesa i/ili organizacijskih cjelina te međufunkcijskih projekata. Uključuje raspodjelu zadataka, usklađivanje resursa i rokova između različitih područja te prilagodbu planova promjenjivim uvjetima. | E17: 50
C18: 6 | D18: Planiranje i organiziranje poslovne funkcije organizacije, uključujući oblikovanje operativnih planova, optimizaciju procesa i upravljanje projektnim portfeljima funkcije. | E18: 60
C19: 7 | D19: Planiranje i integracija rada više poslovnih funkcija organizacije, uključujući usklađivanje međufunkcijskih planova i raspodjelu resursa na razini više funkcionalnih područja. | E19: 70
C20: 8 | D20: Strateško planiranje na razini cjelokupne organizacije, oblikovanje dugoročnih organizacijskih planova i planiranje transformacijskih inicijativa kroz koje se ostvaruje strategija organizacije. | E20: 80
B21: Interpersonalne i komunikacijske vještine | C21: 1 | D21: Osnovna razina komunikacije potrebna za svakodnevno obavljanje posla. Zahtijeva održavanje uljudnih i učinkovitih radnih odnosa s drugima radi razmjene informacija, postavljanja pitanja ili dobivanja pojašnjenja. Komunikacija je pretežno jednostavna i vezana uz neposredne radne zadatke. | E21: 0
C22: 2 | D22: Standardna komunikacija i interakcija s drugima. Radno mjesto zahtijeva komunikaciju s kolegama ili klijentima u strukturiranim okruženjima, uz potrebnu taktičnost, empatiju i osnovnu izgradnju odnosa. Uključuje razmjenu informacija, odgovaranje na upite i održavanje profesionalnih radnih odnosa u svakodnevnom radu. | E22: 20
C23: 3 | D23: Učinkovita komunikacija i interpersonalni odnosi. Radno mjesto zahtijeva prilagodbu komunikacije različitim skupinama te poticanje povjerenja, suradnje i pozitivnih radnih odnosa. Uključuje prezentiranje informacija grupama, vođenje strukturiranih razgovora i koordinaciju komunikacije s više internih i/ili eksternih dionika. | E23: 35
C24: 4 | D24: Napredne komunikacijske i interpersonalne vještine. Radno mjesto zahtijeva komunikaciju u složenijim interakcijama, posredovanje u interpersonalnim nesuglasicama i podršku skupnoj suradnji. Uključuje vještine uvjeravanja i pregovaranja te sposobnost prilagodbe komunikacije različitim profilima sugovornika. | E24: 50
C25: 5 | D25: Snažne komunikacijske i interpersonalne vještine. Radno mjesto zahtijeva komunikaciju s ključnim dionicima u zahtjevnim i osjetljivim situacijama, uz oblikovanje poruka koje grade povjerenje, jasnoću i razumijevanje u širim skupinama. Uključuje zastupanje stavova organizacije te komunikaciju u uvjetima visoke izloženosti i odgovornosti. | E25: 60
B26: Vještine rješavanja problema | C26: 1 | D26: Rutinski problemi. Radno mjesto zahtijeva rješavanje manjih, rutinskih problema koji se redovito pojavljuju. Rješenja su već poznata i lako primjenjiva uz pomoć unaprijed definiranih pravila i procedura. | E26: 0
C27: 2 | D27: Standardni problemi. Radno mjesto uključuje rješavanje problema s definiranim alternativama. Potrebna je određena prosudba i odabir najprikladnijeg rješenja iz poznatih opcija, ali pomoć kolega ili nadređenih je obično dostupna. | E27: 10
C28: 3 | D28: Različiti standardni problemi. Radno mjesto uključuje rješavanje problema koji se ponavljaju u prepoznatljivim obrascima, ali s manjim varijacijama u okolnostima. Rješenja postoje u praksi i lako se prilagođavaju situaciji, uz osnovnu samostalnost u procjeni. | E28: 20
C29: 4 | D29: Promjenjivi problemi. Radno mjesto uključuje rješavanje različitih vrsta problema koji zahtijevaju istraživanje mogućnosti ili prilagodbu postojećih načina rada. Smjernice i gotova rješenja mogu biti ograničena, što zahtijeva samostalnost u procjeni situacije. | E29: 35
C30: 5 | D30: Nestandardni problemi. Radno mjesto uključuje rješavanje složenijih, nestandardnih problema koji uključuju više povezanih čimbenika. Rješenja često zahtijevaju prilagodbu postojećih metoda i razvoj prilagođenih pristupa temeljenih na stručnom znanju. | E30: 50
C31: 6 | D31: Složeni problemi. Radno mjesto zahtijeva rješavanje višedimenzionalnih problema koji su često nepotpuno definirani i nemaju predefinirana rješenja u praksi struke ili organizacije. Potrebno je sagledavanje međuovisnosti više čimbenika. | E31: 60
C32: 7 | D32: Visoko složeni problemi. Radno mjesto zahtijeva rješavanje problema koji zahtijevaju integraciju znanja iz više disciplina. Problemi su novi i jedinstveni, bez postojećih rješenja u struci, te zahtijevaju kreiranje sustavnih rješenja prilagođenih kontekstu organizacije. | E32: 70
C33: 8 | D33: Iznimno složeni problemi. Radno mjesto zahtijeva rješavanje fundamentalnih problema čija priroda nadilazi okvire struke i postojećih disciplina. Uključuje kreiranje novih paradigmi i koncepata te prepoznavanje problema koji u praksi još nisu jasno artikulirani. | E33: 80
B34: Dodatna znanja | C34: 1 | D34: Bez dodatnih znanja. Posao ne zahtijeva znanja izvan osnovnog stručnog područja pokrivenog formalnim obrazovanjem i radnim iskustvom. | E34: 0
C35: 2 | D35: Osnovna razina dodatnih znanja, razina poznavanja i osnovne primjene. Posao zahtijeva osnovna znanja iz jednog do dva područja izvan osnovne struke. Mogu biti tehnička ili opća poslovna, npr. poznavanje digitalnih alata, zakonske regulative, sigurnosti na radu, osnova projektnog rada ili sličnih područja. Znanja su na razini primjene u svakodnevnom radu, ne na razini stručnosti. | E35: 10
C36: 3 | D36: Proširena razina dodatnih znanja, razina samostalne primjene. Posao zahtijeva znanja iz više područja izvan osnovne struke koja se redovito primjenjuju u radu, npr. poznavanje regulatornog okvira, financijske pismenosti, digitalnih alata ili poslovnih procesa povezanih s radnim mjestom. Znanja nadopunjuju osnovnu struku i potrebna su za samostalno obavljanje posla. | E36: 20
C37: 4 | D37: Napredna razina dodatnih znanja, razina prilagodbe kontekstu. Posao zahtijeva napredna znanja iz više područja izvan osnovne struke, primjenjiva u složenijim radnim situacijama. Uključuje kombinaciju tehničkih i općih poslovnih znanja, npr. dublje poznavanje regulative, projektno upravljanje, analitičke alate ili poznavanje povezanih disciplina. Znanja se primjenjuju samostalno i prilagođavaju kontekstu. | E37: 30
C38: 5 | D38: Visoka razina dodatnih znanja, razina integracije različitih domena. Posao zahtijeva široka i raznovrsna znanja iz više dodatnih područja izvan osnovne struke. Uključuje kombinaciju tehničkih i općih poslovnih znanja, npr. više zakonskih okvira, financijsko i poslovno razumijevanje, napredne digitalne kompetencije, poznavanje organizacijskih procesa i sl. Zahtijeva sposobnost integracije znanja iz različitih domena u svakodnevni rad. | E38: 40
B39: Tjelesne/manualne vještine | C39: 1 | D39: Bez tjelesnih vještina. Radno mjesto ne zahtijeva nikakve posebne tjelesne ili manualne vještine (iako uobičajeno postoji određena tjelesna aktivnost poput tipkanja ili hodanja). | E39: 0
C40: 2 | D40: Potrebne su minimalne tjelesne vještine. Radno mjesto zahtijeva osnovnu koordinaciju pokreta i minimalnu spretnost, npr. kod rukovanja lakim predmetima ili korištenja jednostavne opreme i mjernih instrumenata. | E40: 10
...

Sheet Plan podkriterija
C3: Plan kriterija i podkriterija
B8: 1) | C8: Predloženo ponderiranje kriterija
C10: Kriteriji | D10: Podkriteriji | E10: Udio (%) | G10: Ukupno bodova | I10: 📝Tablice u ovom listu predstavljaju rezultat bodova iz radnog lista Bodovna skala s opisima. Eventualne promjene ne unosite u ovaj radni list
C11: =D59 -> VJEŠTINE | D11: {=TRANSPOSE(D60:I60)} -> Stručna znanja i iskustvo | E11: =D34 -> 0.44 | G11: =E55 -> 1000
D12: Vještine planiranja i organizacije
D13: Interpersonalne i komunikacijske vještine
D14: Vještine rješavanja problema
D15: Dodatna znanja
D16: Tjelesne/manualne vještine
C17: =J59 -> ODGOVORNOST | D17: {=TRANSPOSE(J60:N60)} -> Odgovornost za ljude | E17: =D41 -> 0.3
D18: Odgovornost za financijske resurse
D19: Odgovornost za materijalna dobra i opremu
D20: Odgovornost za informacije
D21: Utjecaj na rezultat
C22: =O59 -> RADNI NAPOR | D22: {=TRANSPOSE(O60:R60)} -> Zahtjevnost razmišljanja | E22: =D47 -> 0.2
D23: Donošenje i provođenje odluka
D24: Psihosocijalni i emocionalni zahtjevi
D25: Fizičko opterećenje
C26: =S59 -> RADNI UVJETI | D26: {=TRANSPOSE(S60:T60)} -> Radno okruženje | E26: =D52 -> 0.06
D27: Organizacijsko okruženje
D28: Ukupno | E28: =SUM(E11:E27) -> 1
B31: 2) | C31: Predloženo ponderiranje podkriterija
C33: Kriterij/podkriterij | D33: Udio(MAX %) | E33: Bodovi (MAX) | F33: Bodovi (MIN)
C34: =C11 -> VJEŠTINE | D34: =E34/$E$55 -> 0.44 | E34: =SUM(E35:E40) -> 440 | F34: =SUM(F35:F40) -> 0
C35: {=_xlfn.ANCHORARRAY(D11)} -> Stručna znanja i iskustvo | D35: =E35/$E$55 -> 0.14 | E35: =MAX(_xlfn.XLOOKUP(C35,_xlfn.ANCHORARRAY($D$138),$D$139:$T$146,"",0,-1)) -> 140 | F35: =MIN(_xlfn.XLOOKUP(C35,_xlfn.ANCHORARRAY($D$138),$D$139:$T$146,"",0,-1)) -> 0
C36: Vještine planiranja i organizacije | D36: =E36/$E$55 -> 0.08 | E36: =MAX(_xlfn.XLOOKUP(C36,_xlfn.ANCHORARRAY($D$138),$D$139:$T$146,"",0,-1)) -> 80 | F36: =MIN(_xlfn.XLOOKUP(C36,_xlfn.ANCHORARRAY($D$138),$D$139:$T$146,"",0,-1)) -> 0
C37: Interpersonalne i komunikacijske vještine | D37: =E37/$E$55 -> 0.06 | E37: =MAX(_xlfn.XLOOKUP(C37,_xlfn.ANCHORARRAY($D$138),$D$139:$T$146,"",0,-1)) -> 60 | F37: =MIN(_xlfn.XLOOKUP(C37,_xlfn.ANCHORARRAY($D$138),$D$139:$T$146,"",0,-1)) -> 0
C38: Vještine rješavanja problema | D38: =E38/$E$55 -> 0.08 | E38: =MAX(_xlfn.XLOOKUP(C38,_xlfn.ANCHORARRAY($D$138),$D$139:$T$146,"",0,-1)) -> 80 | F38: =MIN(_xlfn.XLOOKUP(C38,_xlfn.ANCHORARRAY($D$138),$D$139:$T$146,"",0,-1)) -> 0
C39: Dodatna znanja | D39: =E39/$E$55 -> 0.04 | E39: =MAX(_xlfn.XLOOKUP(C39,_xlfn.ANCHORARRAY($D$138),$D$139:$T$146,"",0,-1)) -> 40 | F39: =MIN(_xlfn.XLOOKUP(C39,_xlfn.ANCHORARRAY($D$138),$D$139:$T$146,"",0,-1)) -> 0
C40: Tjelesne/manualne vještine | D40: =E40/$E$55 -> 0.04 | E40: =MAX(_xlfn.XLOOKUP(C40,_xlfn.ANCHORARRAY($D$138),$D$139:$T$146,"",0,-1)) -> 40 | F40: =MIN(_xlfn.XLOOKUP(C40,_xlfn.ANCHORARRAY($D$138),$D$139:$T$146,"",0,-1)) -> 0
C41: =C17 -> ODGOVORNOST | D41: =SUM(D42:D46) -> 0.3 | E41: =SUM(E42:E46) -> 300 | F41: =SUM(F42:F46) -> 0
C42: {=_xlfn.ANCHORARRAY(D17)} -> Odgovornost za ljude | D42: =E42/$E$55 -> 0.1 | E42: =MAX(_xlfn.XLOOKUP(C42,_xlfn.ANCHORARRAY($D$138),$D$139:$T$146,"",0,-1)) -> 100 | F42: =MIN(_xlfn.XLOOKUP(C42,_xlfn.ANCHORARRAY($D$138),$D$139:$T$146,"",0,-1)) -> 0
C43: Odgovornost za financijske resurse | D43: =E43/$E$55 -> 0.05 | E43: =MAX(_xlfn.XLOOKUP(C43,_xlfn.ANCHORARRAY($D$138),$D$139:$T$146,"",0,-1)) -> 50 | F43: =MIN(_xlfn.XLOOKUP(C43,_xlfn.ANCHORARRAY($D$138),$D$139:$T$146,"",0,-1)) -> 0
C44: Odgovornost za materijalna dobra i opremu | D44: =E44/$E$55 -> 0.05 | E44: =MAX(_xlfn.XLOOKUP(C44,_xlfn.ANCHORARRAY($D$138),$D$139:$T$146,"",0,-1)) -> 50 | F44: =MIN(_xlfn.XLOOKUP(C44,_xlfn.ANCHORARRAY($D$138),$D$139:$T$146,"",0,-1)) -> 0
C45: Odgovornost za informacije | D45: =E45/$E$55 -> 0.04 | E45: =MAX(_xlfn.XLOOKUP(C45,_xlfn.ANCHORARRAY($D$138),$D$139:$T$146,"",0,-1)) -> 40 | F45: =MIN(_xlfn.XLOOKUP(C45,_xlfn.ANCHORARRAY($D$138),$D$139:$T$146,"",0,-1)) -> 0
C46: Utjecaj na rezultat | D46: =E46/$E$55 -> 0.06 | E46: =MAX(_xlfn.XLOOKUP(C46,_xlfn.ANCHORARRAY($D$138),$D$139:$T$146,"",0,-1)) -> 60 | F46: =MIN(_xlfn.XLOOKUP(C46,_xlfn.ANCHORARRAY($D$138),$D$139:$T$146,"",0,-1)) -> 0
C47: =C22 -> RADNI NAPOR | D47: =SUM(D48:D51) -> 0.2 | E47: =SUM(E48:E51) -> 200 | F47: =SUM(F48:F51) -> 0
C48: {=_xlfn.ANCHORARRAY(D22)} -> Zahtjevnost razmišljanja | D48: =E48/$E$55 -> 0.06 | E48: =MAX(_xlfn.XLOOKUP(C48,_xlfn.ANCHORARRAY($D$138),$D$139:$T$146,"",0,-1)) -> 60 | F48: =MIN(_xlfn.XLOOKUP(C48,_xlfn.ANCHORARRAY($D$138),$D$139:$T$146,"",0,-1)) -> 0
C49: Donošenje i provođenje odluka | D49: =E49/$E$55 -> 0.06 | E49: =MAX(_xlfn.XLOOKUP(C49,_xlfn.ANCHORARRAY($D$138),$D$139:$T$146,"",0,-1)) -> 60 | F49: =MIN(_xlfn.XLOOKUP(C49,_xlfn.ANCHORARRAY($D$138),$D$139:$T$146,"",0,-1)) -> 0
C50: Psihosocijalni i emocionalni zahtjevi | D50: =E50/$E$55 -> 0.05 | E50: =MAX(_xlfn.XLOOKUP(C50,_xlfn.ANCHORARRAY($D$138),$D$139:$T$146,"",0,-1)) -> 50 | F50: =MIN(_xlfn.XLOOKUP(C50,_xlfn.ANCHORARRAY($D$138),$D$139:$T$146,"",0,-1)) -> 0
...

Sheet Opis RM
B2: Opis radnog mjesta Primjer
B5: # | C5: Naziv radnog mjesta | D5: Opis glavnih zadataka | E5: Svrha radnog mjesta | F5: ORG jedinica | G5: Direktna linija odgovornosti | H5: Komentar | I5: Kategorija složenosti/Platni razred | K5: 📝 Uputa: Ovdje su navedeni primjeri opisa poslova za radna mjesta. Ovaj list predstavlja ulaznu informaciju za list "Vrednovanje". Prema potrebi se mogu dodati novi stupci za upisivanje dodatnih relevantnih informacija o radnom mjestu.
B6: 1 | C6: Direktor/ica sektora za razvoj | D6: Vodi sektor razvoja; definira razvojnu strategiju, prioritete i ciljeve sektora; upravlja portfeljem razvojnih projekata i resursima; koordinira rad voditelja projekata; izvještava upravu o napretku i ključnim rizicima; predstavlja organizaciju pred vanjskim partnerima u području razvoja. | E6: Vodi sektor razvoja i usmjerava razvojnu strategiju kako bi osigurao/la ostvarenje razvojnih ciljeva organizacije. | F6: Sektor razvoja | G6: Uprava (CEO/COO)
B7: 2 | C7: Voditelj/ica projekta | D7: Vodi dodijeljene projekte od pokretanja do zatvaranja; planira opseg, rokove, proračun i resurse; koordinira projektni tim i dionike; prati napredak i rizike; izvještava naručitelja projekta i rukovodstvo; osigurava ostvarenje projektnih ciljeva u zadanim okvirima. | E7: Vodi dodijeljene projekte od pokretanja do zatvaranja kako bi osigurao/la ostvarenje projektnih ciljeva unutar zadanih rokova i proračuna. | F7: Sektor razvoja | G7: Direktor/ica sektora za razvoj
B8: 3 | C8: Viši stručnjak/inja | D8: Samostalno rješava složene stručne zadatke u svom području; razvija metodologije, standarde i smjernice rada; pruža ekspertnu podršku voditeljima projekata i drugim članovima tima; sudjeluje u najzahtjevnijim analizama i projektima; mentorira mlađe kolege i prenosi znanje unutar sektora. | E8: Rješava složene stručne zadatke i razvija metodologije i standarde kako bi podigao/la kvalitetu i stručnu razinu rada sektora. | F8: Sektor razvoja | G8: Direktor/ica sektora za razvoj
B9: 4 | C9: Analitičar/ka | D9: Prikuplja, obrađuje i analizira podatke iz internih i vanjskih izvora; priprema analitičke izvještaje, preglede i preporuke za potrebe odlučivanja; sudjeluje u izradi prognoza i procjena; suradđuje sa stručnjacima iz drugih područja na interpretaciji rezultata. | E9: Prikuplja i analizira podatke te izrađuje analitičke izvještaje kako bi podržao/la donošenje poslovnih odluka. | F9: Sektor razvoja | G9: Voditelj/ica projekta
B10: 5 | C10: Administrator/ica | D10: Obavlja administrativne i organizacijske poslove podrške sektoru; vodi evidencije, dokumentaciju i arhivu; priprema dopise, zapisnike i izvještaje; koordinira sastanke i komunikaciju s internim i vanjskim dionicima; brine o uredskim materijalima i tehničkoj podršci timu. | E10: Obavlja administrativne i organizacijske poslove kako bi podržao/la nesmetano funkcioniranje sektora. | F10: Sektor razvoja | G10: Direktor/ica sektora za razvoj

Sheet Vrednovanje
B1: 📝 Uputa: U ovom listu početni korak predstavlja ručni upis naziva radnog mjesta čiju je složenost potrebno vrednovati (niže navedene primjere možete obrisati prije početka vrednovanja). Nakon toga, za svako radno mjesto ručno se upisuju bodovi složenosti prema svakom podkriteriju. Bodovi se određuju prema listu "Bodovna skala s opisima", gdje je za svaku razinu naveden pripadajući broj bodova. Upisuje se broj bodova, ne razina. Ako radno mjesto ne odgovara u potpunosti jednoj razini, može se upisati i iznos bodova između dvije susjedne razine (npr. ako razina 2 nosi 20 bodova, a razina 3 nosi 30 bodova, može se upisati bilo koji broj između 20 i 29).
B6: KATALOG RADNIH MJESTA PREMA KRITERIJIMA
C7: Maksimalno bodova | D7: {=TRANSPOSE('Plan podkriterija'!E35:E40)} -> 140 | E7: 80 | F7: 60 | G7: 80 | H7: 40 | I7: 40 | J7: {=TRANSPOSE('Plan podkriterija'!E42:E46)} -> 100 | K7: 50 | L7: 50 | M7: 40 | N7: 60 | O7: {=TRANSPOSE('Plan podkriterija'!E48:E51)} -> 60 | P7: 60 | Q7: 50 | R7: 30 | S7: {=TRANSPOSE('Plan podkriterija'!E53:E54)} -> 30 | T7: 30
C8: Minimalno bodova | D8: {=TRANSPOSE('Plan podkriterija'!F35:F40)} -> 0 | E8: 0 | F8: 0 | G8: 0 | H8: 0 | I8: 0 | J8: {=TRANSPOSE('Plan podkriterija'!F42:F46)} -> 0 | K8: 0 | L8: 0 | M8: 0 | N8: 0 | O8: {=TRANSPOSE('Plan podkriterija'!F48:F51)} -> 0 | P8: 0 | Q8: 0 | R8: 0 | S8: {=TRANSPOSE('Plan podkriterija'!F53:F54)} -> 0 | T8: 0
D9: 1) VJEŠTINE | J9: 2) ODGOVORNOST | O9: 3) RADNI NAPOR | S9: 4) RADNI UVJETI | U9: Rezultat vrednovanja
B10: # | C10: Naziv radnog mjesta | D10: 1.1 Stručna znanja i iskustvo | E10: 1.2 Vještine planiranja i organizacije | F10: 1.3 Interpersonalne i komunikacijske vještine | G10: 1.4 Vještine rješavanja problema | H10: 1.5 Dodatna znanja | I10: 1.6 Tjelesne /manualne vještine | J10: 2.1 Odgovornost za ljude | K10: 2.2 Odgovornost za financijske resurse | L10: 2.3 Odgovornost za materijalna dobra i opremu | M10: 2.4 Odgovornost za informacije | N10: 2.5 Utjecaj na rezultat | O10: 3.1 Zahtjevnost razmišljanja | P10: 3.2 Donošenje i provođenje odluka | Q10: 3.3 Psihosocijalni i emocionalni zahtjevi | R10: 3.4 Fizičko opterećenje | S10: 4.1 Radno okruženje | T10: 4.2 Organizacijsko okruženje | U10: UKUPNO BODOVA - REZULTATI VREDNOVANJA | V10: Nova kategorija složenosti prema rezultatima vrednovanja/NOVI PLATNI RAZREDA
C11: Direktor/ica sektora za razvoj | D11: 120 | E11: 70 | F11: 60 | G11: 75 | H11: 40 | I11: 0 | J11: 85 | K11: 45 | L11: 50 | M11: 40 | N11: 60 | O11: 60 | P11: 60 | Q11: 45 | R11: 0 | S11: 0 | T11: 25 | U11: =IF(SUM(D11:T11)=0,"",SUM(D11:T11)) -> 835 | V11: =IF(Vrednovanje[[#This Row],[UKUPNO BODOVA - REZULTATI VREDNOVANJA]]="","",_xlfn.XLOOKUP(Vrednovanje[[#This Row],[UKUPNO BODOVA - REZULTATI VREDNOVANJA]],Kategorije[Minimum],Kategorije[Kategorija složenosti],"",-1,1)) -> R1
C12: Voditelj/ica projekta | D12: 115 | E12: 60 | F12: 55 | G12: 60 | H12: 30 | I12: 0 | J12: 45 | K12: 25 | L12: 30 | M12: 30 | N12: 50 | O12: 50 | P12: 30 | Q12: 30 | R12: 0 | S12: 0 | T12: 10 | U12: =IF(SUM(D12:T12)=0,"",SUM(D12:T12)) -> 620 | V12: =IF(Vrednovanje[[#This Row],[UKUPNO BODOVA - REZULTATI VREDNOVANJA]]="","",_xlfn.XLOOKUP(Vrednovanje[[#This Row],[UKUPNO BODOVA - REZULTATI VREDNOVANJA]],Kategorije[Minimum],Kategorije[Kategorija složenosti],"",-1,1)) -> R3
C13: Viši stručnjak/inja | D13: 125 | E13: 50 | F13: 45 | G13: 55 | H13: 35 | I13: 0 | J13: 20 | K13: 0 | L13: 10 | M13: 25 | N13: 45 | O13: 60 | P13: 25 | Q13: 15 | R13: 0 | S13: 0 | T13: 5 | U13: =IF(SUM(D13:T13)=0,"",SUM(D13:T13)) -> 515 | V13: =IF(Vrednovanje[[#This Row],[UKUPNO BODOVA - REZULTATI VREDNOVANJA]]="","",_xlfn.XLOOKUP(Vrednovanje[[#This Row],[UKUPNO BODOVA - REZULTATI VREDNOVANJA]],Kategorije[Minimum],Kategorije[Kategorija složenosti],"",-1,1)) -> R4
C14: Analitičar/ka | D14: 125 | E14: 50 | F14: 45 | G14: 55 | H14: 35 | I14: 0 | J14: 20 | K14: 0 | L14: 10 | M14: 25 | N14: 45 | O14: 60 | P14: 25 | Q14: 15 | R14: 0 | S14: 0 | T14: 5 | U14: =IF(SUM(D14:T14)=0,"",SUM(D14:T14)) -> 515 | V14: =IF(Vrednovanje[[#This Row],[UKUPNO BODOVA - REZULTATI VREDNOVANJA]]="","",_xlfn.XLOOKUP(Vrednovanje[[#This Row],[UKUPNO BODOVA - REZULTATI VREDNOVANJA]],Kategorije[Minimum],Kategorije[Kategorija složenosti],"",-1,1)) -> R4
C15: Administrator/ica | D15: 125 | E15: 50 | F15: 45 | G15: 55 | H15: 35 | I15: 0 | J15: 20 | K15: 0 | L15: 10 | M15: 25 | N15: 45 | O15: 60 | P15: 25 | Q15: 15 | R15: 0 | S15: 0 | T15: 5 | U15: =IF(SUM(D15:T15)=0,"",SUM(D15:T15)) -> 515 | V15: =IF(Vrednovanje[[#This Row],[UKUPNO BODOVA - REZULTATI VREDNOVANJA]]="","",_xlfn.XLOOKUP(Vrednovanje[[#This Row],[UKUPNO BODOVA - REZULTATI VREDNOVANJA]],Kategorije[Minimum],Kategorije[Kategorija složenosti],"",-1,1)) -> R4

Sheet Kategorije složenosti
C2: Kategorije složenosti i platni razredi
C5: Kategorija složenosti | D5: Raspon bodova | E5: Uloga/Radna mjesta | F5: Minimum | G5: Maksimum | H5: Minimum platnog razreda (EUR) | I5: Maksimum platnog razreda (EUR) | K5: Info: Za svaku kategoriju složenosti (R0–R9) potrebno je odrediti minimum i maksimum platnog razreda u stupcima H i I. Platni rasponi trebaju odražavati raspon bodova složenosti pojedine kategorije, viša kategorija (manji broj, npr. R0) ima viši platni raspon, niža kategorija (R9) niži. Pri određivanju iznosa uzeti u obzir tržišne uvjete, internu pravičnost i financijske mogućnosti organizacije. Susjedne kategorije mogu imati i preklapajuće raspone kako bi se omogućilo napredovanje unutar iste uloge Podaci o platnim razredima nisu dio Modela - predstavljaju dio strukturiranog procesa.
C6: R0 | D6: =F6&" - "&G6 -> 901 - 1000 | E6: Uprava, strateško vođenje društva (CEO, CFO, COO, član uprave) | F6: =G7+1 -> 901 | G6: 1000
C7: R1 | D7: =F7&" - "&G7 -> 801 - 900 | E7: Top menadžment, direktori sektora i ključnih poslovnih funkcija | F7: =G8+1 -> 801 | G7: 900
C8: R2 | D8: =F8&" - "&G8 -> 701 - 800 | E8: Srednji menadžment, voditelji odjela i službi | F8: =G9+1 -> 701 | G8: 800 | K8: 📝 Uputa: po potrebi ćelije označene crvenim brojkama možete mijenjati, kako biste prilagodili raspone Kategorija složenosti svojim potrebama. Isto će biti vidljivo na radnom listu Plan podkriterija
C9: R3 | D9: =F9&" - "&G9 -> 601 - 700 | E9: Operativni menadžment, rukovoditelji timova i senior eksperti | F9: =G10+1 -> 601 | G9: 700
C10: R4 | D10: =F10&" - "&G10 -> 501 - 600 | E10: Stručnjaci, samostalni nositelji složenih stručnih poslova | F10: =G11+1 -> 501 | G10: 600
C11: R5 | D11: =F11&" - "&G11 -> 401 - 500 | E11: Specijalisti, specijalizirani stručni poslovi s primjenom znanja | F11: =G12+1 -> 401 | G11: 500
C12: R6 | D12: =F12&" - "&G12 -> 301 - 400 | E12: Iskusni izvršitelji, složeniji operativni i stručno-tehnički poslovi | F12: =G13+1 -> 301 | G12: 400
C13: R7 | D13: =F13&" - "&G13 -> 201 - 300 | E13: Operativni izvršitelji, standardni operativni poslovi | F13: =G14+1 -> 201 | G13: 300
C14: R8 | D14: =F14&" - "&G14 -> 101 - 200 | E14: Administrativni izvršitelji, administrativni i podržavajući poslovi | F14: =G15+1 -> 101 | G14: 200
C15: R9 | D15: =F15&" - "&G15 -> 0 - 100 | E15: Pomoćni poslovi, radna mjesta niske složenosti i rutinski zadaci | F15: 0 | G15: 100

Sheet Zastupljenost spolova
B2: Zastupljenost spolova Primjer
B4: 📝 Uputa: | C4: 1. Unesite broj zaposlenih žena i muškaraca po radnom mjestu u donju tablicu (primjere možete obrisati).
C5: 2. Ukupan broj zaposlenih za svako radno mjesto izračunava se automatski.
C6: 3. U stupcu 'Prevlast spola' zabilježite je li radno mjesto s prevlašću muškaraca, prevlašću žena ili uravnoteženo.
B9: Br. | C9: Naziv radnog mjesta | D9: Broj žena | E9: Broj muškaraca | F9: Ukupan broj zaposlenih/RM | G9: Prevlast spola | H9: Ukupni bodovi | I9: Kategorija složenosti RM (R0-R9) | K9: Ukupno
B10: 1 | C10: Arhitekt/Arhitektica | D10: 2 | E10: 10 | F10: =D10+E10 -> 12 | G10: =IFERROR(IF(D10+E10=0,"",IF(D10/(D10+E10)>=0.6,"prevlast žena",IF(D10/(D10+E10)<=0.4,"prevlast muškaraca","uravnoteženo"))),"") -> prevlast muškaraca | H10: 595 | I10: R4 | K10: Ukupno žena | L10: =SUM(D10:D20) -> 7
B11: 2 | C11: Građevinski radnik/radnica | D11: 0 | E11: 15 | F11: =D11+E11 -> 15 | G11: =IFERROR(IF(D11+E11=0,"",IF(D11/(D11+E11)>=0.6,"prevlast žena",IF(D11/(D11+E11)<=0.4,"prevlast muškaraca","uravnoteženo"))),"") -> prevlast muškaraca | H11: 252 | I11: R7 | K11: Ukupno muškaraca | L11: =SUM(E10:E20) -> 30
B12: 3 | C12: Administrator/ica | D12: 5 | E12: 5 | F12: =D12+E12 -> 10 | G12: =IFERROR(IF(D12+E12=0,"",IF(D12/(D12+E12)>=0.6,"prevlast žena",IF(D12/(D12+E12)<=0.4,"prevlast muškaraca","uravnoteženo"))),"") -> uravnoteženo | H12: 266 | I12: R7
B13: 4 | G13: =IFERROR(IF(D13+E13=0,"",IF(D13/(D13+E13)>=0.6,"prevlast žena",IF(D13/(D13+E13)<=0.4,"prevlast muškaraca","uravnoteženo"))),"")
B14: 5 | G14: =IFERROR(IF(D14+E14=0,"",IF(D14/(D14+E14)>=0.6,"prevlast žena",IF(D14/(D14+E14)<=0.4,"prevlast muškaraca","uravnoteženo"))),"")
B15: 6 | G15: =IFERROR(IF(D15+E15=0,"",IF(D15/(D15+E15)>=0.6,"prevlast žena",IF(D15/(D15+E15)<=0.4,"prevlast muškaraca","uravnoteženo"))),"")
B16: 7 | G16: =IFERROR(IF(D16+E16=0,"",IF(D16/(D16+E16)>=0.6,"prevlast žena",IF(D16/(D16+E16)<=0.4,"prevlast muškaraca","uravnoteženo"))),"")
B17: 8 | G17: =IFERROR(IF(D17+E17=0,"",IF(D17/(D17+E17)>=0.6,"prevlast žena",IF(D17/(D17+E17)<=0.4,"prevlast muškaraca","uravnoteženo"))),"")
B18: 9 | G18: =IFERROR(IF(D18+E18=0,"",IF(D18/(D18+E18)>=0.6,"prevlast žena",IF(D18/(D18+E18)<=0.4,"prevlast muškaraca","uravnoteženo"))),"")
B19: 10 | G19: =IFERROR(IF(D19+E19=0,"",IF(D19/(D19+E19)>=0.6,"prevlast žena",IF(D19/(D19+E19)<=0.4,"prevlast muškaraca","uravnoteženo"))),"")
B20: Dodajte više redova po potrebi
